View In:
ArcGIS JavaScript
ArcGIS Online Map Viewer
ArcGIS Earth
Service Description: Basemaps/NDCDIC23_Property_sid
Name: Basemaps/NDCDIC23_Property_sid
Description:
Single Fused Map Cache: false
Extent:
XMin: 1350888.0
YMin: 429792.0
XMax: 1422168.0
YMax: 479952.0
Spatial Reference: 103126
(6547)
LatestVCSWkid(0)
Initial Extent:
XMin: 1350888.0
YMin: 429792.0
XMax: 1422168.0
YMax: 479952.0
Spatial Reference: 103126
(6547)
LatestVCSWkid(0)
Full Extent:
XMin: 1350888.0
YMin: 429792.0
XMax: 1422168.0
YMax: 479952.0
Spatial Reference: 103126
(6547)
LatestVCSWkid(0)
Pixel Size X: 0.25
Pixel Size Y: 0.25
Band Count: 3
Pixel Type: U8
RasterFunction Infos: {"rasterFunctionInfos": [{
"name": "None",
"description": "",
"help": ""
}]}
Mensuration Capabilities: Basic
Inspection Capabilities:
Has Histograms: true
Has Colormap: false
Has Multi Dimensions : false
Rendering Rule:
Min Scale: 0
Max Scale: 0
Copyright Text:
Service Data Type: esriImageServiceDataTypeProcessed
Min Values: 40, 53, 11
Max Values: 255, 255, 255
Mean Values: 190.41370262391, 179.56530612245, 162.67725947522
Standard Deviation Values: 57.422189603718, 65.612016408654, 79.729750760541
Object ID Field:
Fields:
None
Default Mosaic Method: Center
Allowed Mosaic Methods:
SortField:
SortValue: null
Mosaic Operator: First
Default Compression Quality: 75
Default Resampling Method: Bilinear
Max Record Count: null
Max Image Height: 4100
Max Image Width: 15000
Max Download Image Count: null
Max Mosaic Image Count: null
Allow Raster Function: true
Allow Copy: true
Allow Analysis: true
Allow Compute TiePoints: false
Supports Statistics: false
Supports Advanced Queries: false
Use StandardizedQueries: true
Raster Type Infos:
Name: Raster Dataset
Description: Supports all ArcGIS Raster Datasets
Help:
Has Raster Attribute Table: false
Edit Fields Info: null
Ownership Based AccessControl For Rasters: null
Child Resources:
Info
Histograms
Statistics
Key Properties
Legend
Raster Function Infos
Supported Operations:
Export Image
Identify
Measure
Compute Histograms
Compute Statistics Histograms
Get Samples
Compute Class Statistics
Query Boundary
Compute Pixel Location
Compute Angles
Validate
Project