{
 "currentVersion": 11.5,
 "serviceDescription": "Basemaps/NDCDIC23_Property_sid",
 "serviceItemId": "71724b8901124bc886fdc1952841f220",
 "name": "Basemaps/NDCDIC23_Property_sid",
 "description": "",
 "extent": {
  "xmin": 1350888,
  "ymin": 429792,
  "xmax": 1422168,
  "ymax": 479952,
  "spatialReference": {
   "wkid": 103126,
   "latestWkid": 6547
  }
 },
 "initialExtent": {
  "xmin": 1350888,
  "ymin": 429792,
  "xmax": 1422168,
  "ymax": 479952,
  "spatialReference": {
   "wkid": 103126,
   "latestWkid": 6547
  }
 },
 "fullExtent": {
  "xmin": 1350888,
  "ymin": 429792,
  "xmax": 1422168,
  "ymax": 479952,
  "spatialReference": {
   "wkid": 103126,
   "latestWkid": 6547
  }
 },
 "sortableFields": "",
 "bandCount": 3,
 "pixelType": "U8",
 "minValues": [
  40,
  53,
  11
 ],
 "maxValues": [
  255,
  255,
  255
 ],
 "meanValues": [
  190.41370262391,
  179.56530612245,
  162.67725947522
 ],
 "stdvValues": [
  57.422189603718,
  65.612016408654,
  79.729750760541
 ],
 "serviceProperties": "Center<\/MosaicMethod>First<\/MosaicOperator>true<\/SortAscending><\/LockImageID><\/TileOrderField>0<\/TileOrderBase>0.000000<\/AvgImageSpacingX>0.000000<\/AvgImageSpacingY>0.0<\/ViewPointX>0.0<\/ViewPointY>0.0<\/ViewPointDefShiftX>0.0<\/ViewPointDefShiftY>None<\/CompressionMethod>75<\/CompressionQuality>0.010000<\/CompressionTolerance>Bilinear<\/SamplingMethod><\/ImageServiceProperties><\/ImageServer>",
 "allowedFields": "",
 "hasMultidimensions": false,
 "pixelSizeX": 0.25,
 "pixelSizeY": 0.25,
 "meanPixelSize": 0.0762,
 "datasetFormat": "MrSID",
 "uncompressedSize": 171619430400,
 "blockWidth": 1024,
 "blockHeight": 128,
 "compressionType": "Wavelet (MG3)",
 "bandNames": [
  "Band_1",
  "Band_2",
  "Band_3"
 ],
 "allowCopy": true,
 "allowAnalysis": true,
 "itemAccess": false,
 "inspectionCapabilities": "",
 "minPixelSize": 0,
 "maxPixelSize": 0,
 "copyrightText": "",
 "serviceDataType": "esriImageServiceDataTypeProcessed",
 "serviceSourceType": "esriImageServiceSourceTypeDataset",
 "objectIdField": "",
 "fields": [],
 "capabilities": "Image,Metadata,Mensuration",
 "defaultMosaicMethod": "Center",
 "allowedMosaicMethods": "",
 "sortField": "",
 "sortValue": null,
 "sortAscending": true,
 "mosaicOperator": "First",
 "defaultCompressionQuality": 75,
 "defaultResamplingMethod": "Bilinear",
 "maxImageHeight": 4100,
 "maxImageWidth": 15000,
 "allowRasterFunction": true,
 "rasterFunctionInfos": [
  {
   "name": "None",
   "description": "",
   "help": ""
  }
 ],
 "rasterTypeInfos": [
  {
   "name": "Raster Dataset",
   "description": "Supports all ArcGIS Raster Datasets",
   "help": ""
  }
 ],
 "mensurationCapabilities": "Basic",
 "hasHistograms": true,
 "hasColormap": false,
 "hasRasterAttributeTable": false,
 "minScale": 0,
 "maxScale": 0,
 "exportTilesAllowed": false,
 "supportsStatistics": false,
 "supportsAdvancedQueries": false,
 "editFieldsInfo": null,
 "ownershipBasedAccessControlForRasters": null,
 "allowComputeTiePoints": false,
 "useStandardizedQueries": true,
 "advancedQueryCapabilities": {
  "useStandardizedQueries": true,
  "supportsStatistics": false,
  "supportsOrderBy": false,
  "supportsDistinct": false,
  "supportsPagination": false
 },
 "spatialReference": {
  "wkid": 103126,
  "latestWkid": 6547
 }
}
