View In:
ArcGIS JavaScript
ArcGIS Online Map Viewer
ArcGIS Earth
Service Description: 2019 Aerial Imagery of Dickinson and surrounding area.
Name: Basemaps/NDCDIC19_Delivery_sid
Description: 2019 Aerial Imagery of Dickinson and surrounding area.
Single Fused Map Cache: false
Extent:
XMin: 1366992.0
YMin: 437976.0
XMax: 1422432.0
YMax: 474936.0
Spatial Reference: 103126
(6547)
LatestVCSWkid(0)
Initial Extent:
XMin: 1366992.0
YMin: 437976.0
XMax: 1422432.0
YMax: 474936.0
Spatial Reference: 103126
(6547)
LatestVCSWkid(0)
Full Extent:
XMin: 1366992.0
YMin: 437976.0
XMax: 1422432.0
YMax: 474936.0
Spatial Reference: 103126
(6547)
LatestVCSWkid(0)
Pixel Size X: 0.25
Pixel Size Y: 0.25
Band Count: 4
Pixel Type: U8
RasterFunction Infos: {"rasterFunctionInfos": [{
"name": "None",
"description": "",
"help": ""
}]}
Mensuration Capabilities: Basic
Inspection Capabilities:
Has Histograms: true
Has Colormap: false
Has Multi Dimensions : false
Rendering Rule:
Min Scale: 0
Max Scale: 0
Copyright Text: City of Dickinson and Eagleview
Service Data Type: esriImageServiceDataTypeProcessed
Min Values: 0, 0, 0, 0
Max Values: 253, 248, 239, 255
Mean Values: 131.86615558628, 106.95199195677, 69.734447656152, 224.09425662938
Standard Deviation Values: 52.154034260489, 42.931488307717, 32.276863058389, 82.349246687521
Object ID Field:
Fields:
None
Default Mosaic Method: Center
Allowed Mosaic Methods:
SortField:
SortValue: null
Mosaic Operator: First
Default Compression Quality: 75
Default Resampling Method: Bilinear
Max Record Count: null
Max Image Height: 4100
Max Image Width: 15000
Max Download Image Count: null
Max Mosaic Image Count: null
Allow Raster Function: true
Allow Copy: true
Allow Analysis: true
Allow Compute TiePoints: false
Supports Statistics: false
Supports Advanced Queries: false
Use StandardizedQueries: true
Raster Type Infos:
Name: Raster Dataset
Description: Supports all ArcGIS Raster Datasets
Help:
Has Raster Attribute Table: false
Edit Fields Info: null
Ownership Based AccessControl For Rasters: null
Child Resources:
Info
Histograms
Statistics
Key Properties
Legend
Raster Function Infos
Supported Operations:
Export Image
Identify
Measure
Compute Histograms
Compute Statistics Histograms
Get Samples
Compute Class Statistics
Query Boundary
Compute Pixel Location
Compute Angles
Validate
Project