{
 "currentVersion": 11.5,
 "serviceDescription": "2019 Aerial Imagery of Dickinson and surrounding area.",
 "serviceItemId": "3af7c9a866304609b49d2031d7743f53",
 "name": "Basemaps/NDCDIC19_Delivery_sid",
 "description": "2019 Aerial Imagery of Dickinson and surrounding area.",
 "extent": {
  "xmin": 1366992,
  "ymin": 437976,
  "xmax": 1422432,
  "ymax": 474936,
  "spatialReference": {
   "wkid": 103126,
   "latestWkid": 6547
  }
 },
 "initialExtent": {
  "xmin": 1366992,
  "ymin": 437976,
  "xmax": 1422432,
  "ymax": 474936,
  "spatialReference": {
   "wkid": 103126,
   "latestWkid": 6547
  }
 },
 "fullExtent": {
  "xmin": 1366992,
  "ymin": 437976,
  "xmax": 1422432,
  "ymax": 474936,
  "spatialReference": {
   "wkid": 103126,
   "latestWkid": 6547
  }
 },
 "sortableFields": "",
 "bandCount": 4,
 "pixelType": "U8",
 "minValues": [
  0,
  0,
  0,
  0
 ],
 "maxValues": [
  253,
  248,
  239,
  255
 ],
 "meanValues": [
  131.86615558628,
  106.95199195677,
  69.734447656152,
  224.09425662938
 ],
 "stdvValues": [
  52.154034260489,
  42.931488307717,
  32.276863058389,
  82.349246687521
 ],
 "serviceProperties": "Center<\/MosaicMethod>First<\/MosaicOperator>true<\/SortAscending><\/LockImageID><\/TileOrderField>0<\/TileOrderBase>0.000000<\/AvgImageSpacingX>0.000000<\/AvgImageSpacingY>0.0<\/ViewPointX>0.0<\/ViewPointY>0.0<\/ViewPointDefShiftX>0.0<\/ViewPointDefShiftY>None<\/CompressionMethod>75<\/CompressionQuality>0.010000<\/CompressionTolerance>Bilinear<\/SamplingMethod><\/ImageServiceProperties><\/ImageServer>",
 "allowedFields": "",
 "hasMultidimensions": false,
 "pixelSizeX": 0.25,
 "pixelSizeY": 0.25,
 "meanPixelSize": 0.0762,
 "datasetFormat": "MrSID",
 "uncompressedSize": 131139993600,
 "blockWidth": 1024,
 "blockHeight": 128,
 "compressionType": "Wavelet (MG4)",
 "bandNames": [
  "Band_1",
  "Band_2",
  "Band_3",
  "Band_4"
 ],
 "allowCopy": true,
 "allowAnalysis": true,
 "itemAccess": false,
 "inspectionCapabilities": "",
 "minPixelSize": 0,
 "maxPixelSize": 0,
 "copyrightText": "City of Dickinson and Eagleview",
 "serviceDataType": "esriImageServiceDataTypeProcessed",
 "serviceSourceType": "esriImageServiceSourceTypeDataset",
 "objectIdField": "",
 "fields": [],
 "capabilities": "Mensuration,Image,Metadata",
 "defaultMosaicMethod": "Center",
 "allowedMosaicMethods": "",
 "sortField": "",
 "sortValue": null,
 "sortAscending": true,
 "mosaicOperator": "First",
 "defaultCompressionQuality": 75,
 "defaultResamplingMethod": "Bilinear",
 "maxImageHeight": 4100,
 "maxImageWidth": 15000,
 "allowRasterFunction": true,
 "rasterFunctionInfos": [
  {
   "name": "None",
   "description": "",
   "help": ""
  }
 ],
 "rasterTypeInfos": [
  {
   "name": "Raster Dataset",
   "description": "Supports all ArcGIS Raster Datasets",
   "help": ""
  }
 ],
 "mensurationCapabilities": "Basic",
 "hasHistograms": true,
 "hasColormap": false,
 "hasRasterAttributeTable": false,
 "minScale": 0,
 "maxScale": 0,
 "exportTilesAllowed": false,
 "supportsStatistics": false,
 "supportsAdvancedQueries": false,
 "editFieldsInfo": null,
 "ownershipBasedAccessControlForRasters": null,
 "allowComputeTiePoints": false,
 "useStandardizedQueries": true,
 "advancedQueryCapabilities": {
  "useStandardizedQueries": true,
  "supportsStatistics": false,
  "supportsOrderBy": false,
  "supportsDistinct": false,
  "supportsPagination": false
 },
 "spatialReference": {
  "wkid": 103126,
  "latestWkid": 6547
 }
}
