View In:
ArcGIS JavaScript
ArcGIS Online Map Viewer
ArcGIS Earth
Service Description: 2016 Aerial Imagery by Pictometry Intl. in and around the Dickinson ND area.
Name: Basemaps/NDCDIC16_Delivery_HARN_sid
Description: 2016 Aerial Imagery by Pictometry Intl. in and around the Dickinson ND area.
Single Fused Map Cache: false
Extent:
XMin: 1367104.0
YMin: 438092.0
XMax: 1422544.0
YMax: 475052.0
Spatial Reference: 2910
(2910)
LatestVCSWkid(0)
Initial Extent:
XMin: 1367104.0
YMin: 438092.0
XMax: 1422544.0
YMax: 475052.0
Spatial Reference: 2910
(2910)
LatestVCSWkid(0)
Full Extent:
XMin: 1367104.0
YMin: 438092.0
XMax: 1422544.0
YMax: 475052.0
Spatial Reference: 2910
(2910)
LatestVCSWkid(0)
Pixel Size X: 0.25
Pixel Size Y: 0.25
Band Count: 3
Pixel Type: U8
RasterFunction Infos: {"rasterFunctionInfos": [{
"name": "None",
"description": "",
"help": ""
}]}
Mensuration Capabilities: Basic
Inspection Capabilities:
Has Histograms: true
Has Colormap: false
Has Multi Dimensions : false
Rendering Rule:
Min Scale: 0
Max Scale: 0
Copyright Text: City of Dickinson and Pictometry Intl.
Service Data Type: esriImageServiceDataTypeRGB
Min Values: 0, 5, 0
Max Values: 255, 255, 255
Mean Values: 164.44099535001, 146.74663818022, 109.07289179339
Standard Deviation Values: 42.429359411467, 45.114267420269, 57.385837209833
Object ID Field:
Fields:
None
Default Mosaic Method: Center
Allowed Mosaic Methods:
SortField:
SortValue: null
Mosaic Operator: First
Default Compression Quality: 75
Default Resampling Method: Bilinear
Max Record Count: null
Max Image Height: 4100
Max Image Width: 15000
Max Download Image Count: null
Max Mosaic Image Count: null
Allow Raster Function: true
Allow Copy: true
Allow Analysis: true
Allow Compute TiePoints: false
Supports Statistics: false
Supports Advanced Queries: false
Use StandardizedQueries: true
Raster Type Infos:
Name: Raster Dataset
Description: Supports all ArcGIS Raster Datasets
Help:
Has Raster Attribute Table: false
Edit Fields Info: null
Ownership Based AccessControl For Rasters: null
Child Resources:
Info
Histograms
Statistics
Key Properties
Legend
Raster Function Infos
Supported Operations:
Export Image
Identify
Measure
Compute Histograms
Compute Statistics Histograms
Get Samples
Compute Class Statistics
Query Boundary
Compute Pixel Location
Compute Angles
Validate
Project