{
 "currentVersion": 11.5,
 "serviceDescription": "2016 Aerial Imagery by Pictometry Intl. in and around the Dickinson ND area.",
 "serviceItemId": "ca8c01bf362f42f78f2384d435ef671f",
 "name": "Basemaps/NDCDIC16_Delivery_HARN_sid",
 "description": "2016 Aerial Imagery by Pictometry Intl. in and around the Dickinson ND area.",
 "extent": {
  "xmin": 1367104,
  "ymin": 438092,
  "xmax": 1422544,
  "ymax": 475052,
  "spatialReference": {
   "wkid": 2910,
   "latestWkid": 2910
  }
 },
 "initialExtent": {
  "xmin": 1367104,
  "ymin": 438092,
  "xmax": 1422544,
  "ymax": 475052,
  "spatialReference": {
   "wkid": 2910,
   "latestWkid": 2910
  }
 },
 "fullExtent": {
  "xmin": 1367104,
  "ymin": 438092,
  "xmax": 1422544,
  "ymax": 475052,
  "spatialReference": {
   "wkid": 2910,
   "latestWkid": 2910
  }
 },
 "sortableFields": "",
 "bandCount": 3,
 "pixelType": "U8",
 "minValues": [
  0,
  5,
  0
 ],
 "maxValues": [
  255,
  255,
  255
 ],
 "meanValues": [
  164.44099535001,
  146.74663818022,
  109.07289179339
 ],
 "stdvValues": [
  42.429359411467,
  45.114267420269,
  57.385837209833
 ],
 "serviceProperties": "Center<\/MosaicMethod>First<\/MosaicOperator>true<\/SortAscending><\/LockImageID><\/TileOrderField>0<\/TileOrderBase>0.000000<\/AvgImageSpacingX>0.000000<\/AvgImageSpacingY>0.0<\/ViewPointX>0.0<\/ViewPointY>0.0<\/ViewPointDefShiftX>0.0<\/ViewPointDefShiftY>None<\/CompressionMethod>75<\/CompressionQuality>0.010000<\/CompressionTolerance>Bilinear<\/SamplingMethod><\/ImageServiceProperties><\/ImageServer>",
 "allowedFields": "",
 "hasMultidimensions": false,
 "pixelSizeX": 0.25,
 "pixelSizeY": 0.25,
 "meanPixelSize": 0.0762,
 "datasetFormat": "MrSID",
 "uncompressedSize": 98354995200,
 "blockWidth": 1024,
 "blockHeight": 128,
 "compressionType": "Wavelet (MG3)",
 "bandNames": [
  "Band_1",
  "Band_2",
  "Band_3"
 ],
 "allowCopy": true,
 "allowAnalysis": true,
 "itemAccess": false,
 "inspectionCapabilities": "",
 "minPixelSize": 0,
 "maxPixelSize": 0,
 "copyrightText": "City of Dickinson and Pictometry Intl.",
 "serviceDataType": "esriImageServiceDataTypeRGB",
 "serviceSourceType": "esriImageServiceSourceTypeDataset",
 "objectIdField": "",
 "fields": [],
 "capabilities": "Mensuration,Image,Metadata",
 "defaultMosaicMethod": "Center",
 "allowedMosaicMethods": "",
 "sortField": "",
 "sortValue": null,
 "sortAscending": true,
 "mosaicOperator": "First",
 "defaultCompressionQuality": 75,
 "defaultResamplingMethod": "Bilinear",
 "maxImageHeight": 4100,
 "maxImageWidth": 15000,
 "allowRasterFunction": true,
 "rasterFunctionInfos": [
  {
   "name": "None",
   "description": "",
   "help": ""
  }
 ],
 "rasterTypeInfos": [
  {
   "name": "Raster Dataset",
   "description": "Supports all ArcGIS Raster Datasets",
   "help": ""
  }
 ],
 "mensurationCapabilities": "Basic",
 "hasHistograms": true,
 "hasColormap": false,
 "hasRasterAttributeTable": false,
 "minScale": 0,
 "maxScale": 0,
 "exportTilesAllowed": false,
 "supportsStatistics": false,
 "supportsAdvancedQueries": false,
 "editFieldsInfo": null,
 "ownershipBasedAccessControlForRasters": null,
 "allowComputeTiePoints": false,
 "useStandardizedQueries": true,
 "advancedQueryCapabilities": {
  "useStandardizedQueries": true,
  "supportsStatistics": false,
  "supportsOrderBy": false,
  "supportsDistinct": false,
  "supportsPagination": false
 },
 "spatialReference": {
  "wkid": 2910,
  "latestWkid": 2910
 }
}
