View In:
ArcGIS JavaScript
ArcGIS Online Map Viewer
ArcGIS Earth
Service Description: Basemaps/DIX_NAD83_2021_2024_cache
Name: Basemaps/DIX_NAD83_2021_2024_cache
Description:
Single Fused Map Cache: false
Extent:
XMin: 1340675.391950786
YMin: 397203.8194076444
XMax: 1446682.60396521
YMax: 490402.0058040172
Spatial Reference: 103126
(6547)
VCSWkid(8228)
LatestVCSWkid(8228)
Initial Extent:
XMin: 1340675.391950786
YMin: 397203.8194076444
XMax: 1446682.60396521
YMax: 490402.0058040172
Spatial Reference: 103126
(6547)
VCSWkid(8228)
LatestVCSWkid(8228)
Full Extent:
XMin: 1340675.391950786
YMin: 397203.8194076444
XMax: 1446682.60396521
YMax: 490402.0058040172
Spatial Reference: 103126
(6547)
VCSWkid(8228)
LatestVCSWkid(8228)
Pixel Size X: 0.5000010000019994
Pixel Size Y: 0.500001000002
Band Count: 1
Pixel Type: F32
RasterFunction Infos: {"rasterFunctionInfos": [{
"name": "None",
"description": "",
"help": ""
}]}
Mensuration Capabilities: Basic,3D
Inspection Capabilities:
Has Histograms: false
Has Colormap: false
Has Multi Dimensions : false
Rendering Rule:
Min Scale: 0
Max Scale: 0
Copyright Text:
Service Data Type: esriImageServiceDataTypeGeneric
Min Values: N/A
Max Values: N/A
Mean Values: N/A
Standard Deviation Values: N/A
Object ID Field:
Fields:
None
Default Mosaic Method: Center
Allowed Mosaic Methods:
SortField:
SortValue: null
Mosaic Operator: First
Default Compression Quality: 10000
Default Resampling Method: Bilinear
Max Record Count: null
Max Image Height: 5000
Max Image Width: 5000
Max Download Image Count: null
Max Mosaic Image Count: null
Allow Raster Function: true
Allow Copy: true
Allow Analysis: true
Allow Compute TiePoints: false
Supports Statistics: false
Supports Advanced Queries: false
Use StandardizedQueries: true
Raster Type Infos:
Name: Raster Dataset
Description: Supports all ArcGIS Raster Datasets
Help:
Has Raster Attribute Table: false
Edit Fields Info: null
Ownership Based AccessControl For Rasters: null
Child Resources:
Info
Statistics
Key Properties
Legend
Raster Function Infos
Supported Operations:
Export Image
Identify
Measure
Compute Histograms
Compute Statistics Histograms
Get Samples
Compute Class Statistics
Query Boundary
Compute Pixel Location
Compute Angles
Validate
Project
Calculate Volume