{
 "currentVersion": 11.5,
 "serviceDescription": "Basemaps/DIX_NAD83_2021_2024_cache",
 "serviceItemId": "689db0706dec42c786c5ce2204fba1cf",
 "name": "Basemaps/DIX_NAD83_2021_2024_cache",
 "description": "",
 "extent": {
  "xmin": 1340675.391950786,
  "ymin": 397203.8194076444,
  "xmax": 1446682.60396521,
  "ymax": 490402.0058040172,
  "spatialReference": {
   "wkid": 103126,
   "latestWkid": 6547,
   "vcsWkid": 8228,
   "latestVcsWkid": 8228
  }
 },
 "initialExtent": {
  "xmin": 1340675.391950786,
  "ymin": 397203.8194076444,
  "xmax": 1446682.60396521,
  "ymax": 490402.0058040172,
  "spatialReference": {
   "wkid": 103126,
   "latestWkid": 6547,
   "vcsWkid": 8228,
   "latestVcsWkid": 8228
  }
 },
 "fullExtent": {
  "xmin": 1340675.391950786,
  "ymin": 397203.8194076444,
  "xmax": 1446682.60396521,
  "ymax": 490402.0058040172,
  "spatialReference": {
   "wkid": 103126,
   "latestWkid": 6547,
   "vcsWkid": 8228,
   "latestVcsWkid": 8228
  }
 },
 "sortableFields": "",
 "heightModelInfo": {
  "heightModel": "gravity_related_height",
  "vertCRS": "NAVD88_height_(ftIntl)",
  "heightUnit": "foot"
 },
 "bandCount": 1,
 "pixelType": "F32",
 "minValues": [],
 "maxValues": [],
 "meanValues": [],
 "stdvValues": [],
 "serviceProperties": "Center<\/MosaicMethod>First<\/MosaicOperator>true<\/SortAscending><\/LockImageID><\/TileOrderField>0<\/TileOrderBase>0.000000<\/AvgImageSpacingX>0.000000<\/AvgImageSpacingY>0.0<\/ViewPointX>0.0<\/ViewPointY>0.0<\/ViewPointDefShiftX>0.0<\/ViewPointDefShiftY>LERC<\/CompressionMethod>75<\/CompressionQuality>0.010000<\/CompressionTolerance>Bilinear<\/SamplingMethod><\/ImageServiceProperties><\/ImageServer>",
 "allowedFields": "",
 "hasMultidimensions": false,
 "pixelSizeX": 0.5000010000019994,
 "pixelSizeY": 0.500001000002,
 "meanPixelSize": 0.1524003048006095,
 "datasetFormat": "Cache/LERC",
 "uncompressedSize": 158074246176,
 "blockWidth": 256,
 "blockHeight": 256,
 "compressionType": "LERC",
 "bandNames": [
  "Band_1"
 ],
 "allowCopy": true,
 "allowAnalysis": true,
 "itemAccess": false,
 "inspectionCapabilities": "",
 "minPixelSize": 0,
 "maxPixelSize": 0,
 "copyrightText": "",
 "serviceDataType": "esriImageServiceDataTypeGeneric",
 "serviceSourceType": "esriImageServiceSourceTypeDataset",
 "objectIdField": "",
 "fields": [],
 "capabilities": "Image,Metadata,Pixels,Mensuration",
 "defaultMosaicMethod": "Center",
 "allowedMosaicMethods": "",
 "sortField": "",
 "sortValue": null,
 "sortAscending": true,
 "mosaicOperator": "First",
 "defaultCompressionQuality": 10000,
 "defaultResamplingMethod": "Bilinear",
 "maxImageHeight": 5000,
 "maxImageWidth": 5000,
 "allowRasterFunction": true,
 "rasterFunctionInfos": [
  {
   "name": "None",
   "description": "",
   "help": ""
  }
 ],
 "rasterTypeInfos": [
  {
   "name": "Raster Dataset",
   "description": "Supports all ArcGIS Raster Datasets",
   "help": ""
  }
 ],
 "mensurationCapabilities": "Basic,3D",
 "hasHistograms": false,
 "hasColormap": false,
 "hasRasterAttributeTable": false,
 "minScale": 0,
 "maxScale": 0,
 "exportTilesAllowed": false,
 "supportsStatistics": false,
 "supportsAdvancedQueries": false,
 "editFieldsInfo": null,
 "ownershipBasedAccessControlForRasters": null,
 "allowComputeTiePoints": false,
 "useStandardizedQueries": true,
 "advancedQueryCapabilities": {
  "useStandardizedQueries": true,
  "supportsStatistics": false,
  "supportsOrderBy": false,
  "supportsDistinct": false,
  "supportsPagination": false
 },
 "spatialReference": {
  "wkid": 103126,
  "latestWkid": 6547,
  "vcsWkid": 8228,
  "latestVcsWkid": 8228
 }
}
