View In:
ArcGIS JavaScript
ArcGIS Online Map Viewer
ArcGIS Earth
Service Description: High resolution imagery obtained for the City of Dickinson in Nov/Dec of 2023. The dataset consists of tiled orthogonal imagery produced from nadir images captured by Pictometry International. Automatic aerial triangulation (AAT) was performed. The triangulated frames were rectified to a DEM. Mosaicking was performed using an automatic seaming algorithm and manually edited to eliminate seams through elevated features where possible.
Name: Basemaps/PIC2023_WGS84_ITRF08_cache
Description: High resolution imagery obtained for the City of Dickinson in Nov/Dec of 2023. The dataset consists of tiled orthogonal imagery produced from nadir images captured by Pictometry International. Automatic aerial triangulation (AAT) was performed. The triangulated frames were rectified to a DEM. Mosaicking was performed using an automatic seaming algorithm and manually edited to eliminate seams through elevated features where possible.
Single Fused Map Cache: false
Extent:
XMin: -102.97003104763536
YMin: 46.82060327316524
XMax: -102.68365118690836
YMax: 46.96022002145952
Spatial Reference: 4326
(4326)
LatestVCSWkid(0)
Initial Extent:
XMin: -102.97003104763536
YMin: 46.82060327316524
XMax: -102.68365118690836
YMax: 46.96022002145952
Spatial Reference: 4326
(4326)
LatestVCSWkid(0)
Full Extent:
XMin: -102.97003104763536
YMin: 46.82060327316524
XMax: -102.68365118690836
YMax: 46.96022002145952
Spatial Reference: 4326
(4326)
LatestVCSWkid(0)
Pixel Size X: 3.356518781851907E-7
Pixel Size Y: 3.356518781851972E-7
Band Count: 3
Pixel Type: U8
RasterFunction Infos: {"rasterFunctionInfos": [{
"name": "None",
"description": "",
"help": ""
}]}
Mensuration Capabilities: Basic
Inspection Capabilities:
Has Histograms: false
Has Colormap: false
Has Multi Dimensions : false
Rendering Rule:
Min Scale: 0
Max Scale: 0
Resampling: false
Copyright Text: Pictometry International, Eagleview, City of Dickinson
Service Data Type: esriImageServiceDataTypeRGB
Min Values: N/A
Max Values: N/A
Mean Values: N/A
Standard Deviation Values: N/A
Object ID Field:
Fields:
None
Default Mosaic Method: Center
Allowed Mosaic Methods:
SortField:
SortValue: null
Mosaic Operator: First
Default Compression Quality: 75
Default Resampling Method: Bilinear
Max Record Count: null
Max Image Height: 4100
Max Image Width: 15000
Max Download Image Count: null
Max Mosaic Image Count: null
Allow Raster Function: true
Allow Copy: false
Allow Analysis: true
Allow Compute TiePoints: false
Supports Statistics: false
Supports Advanced Queries: false
Use StandardizedQueries: true
Raster Type Infos:
Name: Raster Dataset
Description: Supports all ArcGIS Raster Datasets
Help:
Has Raster Attribute Table: false
Edit Fields Info: null
Ownership Based AccessControl For Rasters: null
Child Resources:
Info
Statistics
Key Properties
Legend
Raster Function Infos
Supported Operations:
Export Image
Identify
Measure
Compute Histograms
Compute Statistics Histograms
Get Samples
Compute Class Statistics
Query Boundary
Compute Pixel Location
Compute Angles
Validate
Project