View In:
ArcGIS JavaScript
ArcGIS Online Map Viewer
ArcGIS Earth
Service Description: Imagery collected and processed by Pictometry/Eagleview in 2016 for the City of Dickinson ND. Approximately 3in resolution and 6in horizontal accuracy. The dataset consists of tiled orthogonal imagery produced from nadir images captured by Pictometry International. Automatic aerial triangulation (AAT) was performed. The triangulated frames were rectified to a DEM. Mosaicking was performed using an automatic seaming algorithm and manually edited to eliminate seams through elevated features where possible.
Name: Basemaps/PIC2016_WGS84_ITRF00_cache
Description: Imagery collected and processed by Pictometry/Eagleview in 2016 for the City of Dickinson ND. Approximately 3in resolution and 6in horizontal accuracy. The dataset consists of tiled orthogonal imagery produced from nadir images captured by Pictometry International. Automatic aerial triangulation (AAT) was performed. The triangulated frames were rectified to a DEM. Mosaicking was performed using an automatic seaming algorithm and manually edited to eliminate seams through elevated features where possible.
Single Fused Map Cache: false
Extent:
XMin: -102.90816772127079
YMin: 46.84402673948445
XMax: -102.68218069603002
YMax: 46.948253360698516
Spatial Reference: 4326
(4326)
LatestVCSWkid(0)
Initial Extent:
XMin: -102.90816772127079
YMin: 46.84402673948445
XMax: -102.68218069603002
YMax: 46.948253360698516
Spatial Reference: 4326
(4326)
LatestVCSWkid(0)
Full Extent:
XMin: -102.90816772127079
YMin: 46.84402673948445
XMax: -102.68218069603002
YMax: 46.948253360698516
Spatial Reference: 4326
(4326)
LatestVCSWkid(0)
Pixel Size X: 3.356518781851916E-7
Pixel Size Y: 3.3565187818519724E-7
Band Count: 3
Pixel Type: U8
RasterFunction Infos: {"rasterFunctionInfos": [{
"name": "None",
"description": "",
"help": ""
}]}
Mensuration Capabilities: Basic
Inspection Capabilities:
Has Histograms: false
Has Colormap: false
Has Multi Dimensions : false
Rendering Rule:
Min Scale: 0
Max Scale: 0
Resampling: false
Copyright Text: Pictometry International, City of Dickinson
Service Data Type: esriImageServiceDataTypeRGB
Min Values: N/A
Max Values: N/A
Mean Values: N/A
Standard Deviation Values: N/A
Object ID Field:
Fields:
None
Default Mosaic Method: Center
Allowed Mosaic Methods:
SortField:
SortValue: null
Mosaic Operator: First
Default Compression Quality: 75
Default Resampling Method: Bilinear
Max Record Count: null
Max Image Height: 4100
Max Image Width: 15000
Max Download Image Count: null
Max Mosaic Image Count: null
Allow Raster Function: true
Allow Copy: true
Allow Analysis: true
Allow Compute TiePoints: false
Supports Statistics: false
Supports Advanced Queries: false
Use StandardizedQueries: true
Raster Type Infos:
Name: Raster Dataset
Description: Supports all ArcGIS Raster Datasets
Help:
Has Raster Attribute Table: false
Edit Fields Info: null
Ownership Based AccessControl For Rasters: null
Child Resources:
Info
Statistics
Key Properties
Legend
Raster Function Infos
Supported Operations:
Export Image
Identify
Measure
Compute Histograms
Compute Statistics Histograms
Get Samples
Compute Class Statistics
Query Boundary
Compute Pixel Location
Compute Angles
Validate
Project